BEGIN:VCALENDAR
VERSION:2.0
PRODID:-//wp-events-plugin.com//7.2.3.1//EN
TZID:Europe/Berlin
X-WR-TIMEZONE:Europe/Berlin
BEGIN:VEVENT
UID:195@baeke-courier.de
DTSTART;TZID=Europe/Berlin:20251109T110000
DTEND;TZID=Europe/Berlin:20251109T170000
DTSTAMP:20251020T102533Z
URL:https://baeke-courier.de/events/17-teltower-kunst-sonntag/
SUMMARY:17. Teltower Kunst-Sonntag ...
DESCRIPTION:... im Stubenrauchsaal\, Foyer des Neuen Rathauses\, Bürgerhau
 s und Pfarramt.\n\nEintritt: 3 € (Kinder bis 11 Jahre frei)
CATEGORIES:Ausstellung/Museum
LOCATION:Altstadt Teltow\, Marktplatz und Straßen der Altstadt\, Teltow\, 
 Deutschland
X-APPLE-STRUCTURED-LOCATION;VALUE=URI;X-ADDRESS=Marktplatz und Straßen der
  Altstadt\, Teltow\, Deutschland;X-APPLE-RADIUS=100;X-TITLE=Altstadt Telto
 w:geo:0,0
END:VEVENT
BEGIN:VTIMEZONE
TZID:Europe/Berlin
X-LIC-LOCATION:Europe/Berlin
BEGIN:STANDARD
DTSTART:20251026T020000
TZOFFSETFROM:+0200
TZOFFSETTO:+0100
TZNAME:CET
END:STANDARD
END:VTIMEZONE
END:VCALENDAR