BEGIN:VCALENDAR
VERSION:2.0
PRODID:-//wp-events-plugin.com//7.2.3.1//EN
TZID:Europe/Berlin
X-WR-TIMEZONE:Europe/Berlin
BEGIN:VEVENT
UID:103@baeke-courier.de
DTSTART;TZID=Europe/Berlin:20250503T140000
DTEND;TZID=Europe/Berlin:20250503T190000
DTSTAMP:20250426T103530Z
URL:https://baeke-courier.de/events/27-tage-der-offenen-ateliers/
SUMMARY:27. Tage der offenen Ateliers
DESCRIPTION:Am 3. und 4. Mai 2025 laden nun zum 27. Mal zahlreiche Künstle
 rinnen und Künstler im Landkreis Potsdam-Mittelmark interessierte Besuche
 r herzlich dazu ein\, einen Blick in ihre Ateliers zu werfen.\n\nAuch in T
 KS öffnen wieder einige Künstler und Künstlerinnen ihre Ateliers:\n\nTE
 LTOW\nFrauke Schmidt-Theilig | Malerei\nAtelier im Mattausch-Haus\nAlte Po
 tsdamer Straße 5\, 14513 Teltow\nTel. 0177 5277704\nSchmidt.Theilig@t-onl
 ine.de\nInstagram: frauke_s.theilig\nAusstellung Kunst und Kaff ee\nSa 14 
 – 19 Uhr | So 11 – 18 Uhr\n\nKLEINMACHNOW\nCorinne Holthuizen-Haberman
 n | Fotografie\nFörster-Funke-Allee 18\, Sa. 14–19 Uhr | So. 11–18 Uh
 r\nBeate Lein-Kunz | Bildende Kunst\, Malerei\nTucholskyhöhe 4\, Sa. 14
 –19 Uhr | So. 11–18 Uhr\nKünsterinnengemeinschaft "blutorangen" und M
 alkreis der Evangelischen Kirche Kleinmachnow | Malerei\, Fotografie\, Bil
 dhauerei u.a.\nZehlendorfer Damm 211 (Neue Kirche)\, Sa.14–19 Uhr | So. 
 11–18 Uhr\n\nSTAHNSDORF\nWolfgang Enke und Ilona Kuckert | Keramik\, Mal
 erei\nWaltraudstraße 20\, 14532 Stahnsdorf\nTel. 03329-69214\, enke.wolfg
 ang@t-online.de\nSa 14 – 18 Uhr | So 11 – 18 Uhr\nNicole Fritzsche-Bra
 ndt | Malerei\, Grafik\, Skulptur\nSchreyerstraße 3\, 14532 Stahnsdorf\nT
 el. 0176 32776115\, nfbarts@gmx.de\nwww.nfbarts.com\nGast: Sissy Walldorf 
 | Malerei\nSa 14 – 18 Uhr | So 11 – 18 Uhr\nUlrike Seide | Malerei\, B
 atik\, Kunsthandwerk\nAtelier „Kunstseide“\nParkallee 30\, 14532 Stahn
 sdorf\nTel. 03329-698940\n„Ein Garten voller Bilder“\, Kunst im\ngrün
 en Ambiente\, Kunstbücher\,\nEröff nung neues Atelier.\n*** nur So 11 
 – 18 Uhr\nThekla Furch | Plastiken\, Gartenkeramik\, Bilder\nAlte Potsda
 mer Landstraße 60\, 14532 Stahnsdorf\nTel. 0171 5435849\, Thekla.f@t-onli
 ne.de\nVerkaufsausstellung mit Überraschungen\n**** nur Sa 14 – 18 Uhr\
 n\nUnter www.Potsdam-Mittelmark.de finden Sie alle Informationen zum Aktio
 nswochenende.\n\nFlyer PM Offene Ateliers 2025 (PDF-Datei: PDF\, 4.4 MB)\n
 \nAlle Teilnehmer im Land Brandenburg finden Sie unter https://offeneateli
 ersbrandenburg.de\n\nDie Tage der Offenen Ateliers sind ein regionales Koo
 perationsprojekt\, das 1999 erstmals im Land Brandenburg stattfand. Durch 
 den Arbeitskreis der Kulturverwaltungen im Land Brandenburg (AKK) wurde da
 s Projekt stetig weiterentwickelt und 2011 waren dann tatsächlich fast al
 le Landkreise und kreisfreien Städte im Land Brandenburg dabei und ist so
 mit ein fester Termin für die Künstlerinnen und Künstler im Land Brande
 nburg geworden.\n\nWas macht das „Kunstwochenende“ so besonders? Es is
 t ein Wochenende der Begegnung! Des Miteinanders! Des sich Kennenlernens! 
 An Orten\, von den man glaubt\, dass sie eher verschlossen sind. Aber gena
 u das sind sie eben nicht. Es sind „offene Ateliers“. Die Künstlerinn
 en und Künstler haben hier die Gelegenheit vor Publikum zu zeigen\, wie e
 ine Idee zur künstlerischen Umsetzung gelangt\, Besucherinnen und Besuche
 r können diesen Prozess folgen\, in einigen Ateliers gar selbst ausprobie
 ren. In der Kommunikation entstehen dann vielleicht neue Ideen für künst
 lerische Prozesse.\n\nUnsere diesjährige Broschüre „Tage der Offenen A
 teliers in Potsdam-Mittelmark“ führt Sie zu 73 Ateliers in 29 Orte des 
 Landkreises an denen Sie über 120 Künstlerinnen und Künstler begegnen k
 önnen. Zwei Kunstaktionen „Augen auf – Kunst!“ auf der Burg Eisenha
 rdt in Bad Belzig und die „Kunst-Entdeckertour mit Stempelaktion“ in T
 reuenbrietzen versprechen ein konzentriertes Kunsterlebnis an einem Ort.\n
 \nErstmals werden die Besucher in Potsdam-Mittelmark eine einheitliche Ken
 nzeichnung\, ein Banner\, an den Türen der offenen Ateliers finden und so
 mit den Zugang nochmals erleichtern.\nWir wünschen Ihnen ein anregendes k
 reatives Wochenende\, vollen Kunstgenuss und gute Gespräche mit unseren K
 ünstlerinnen und Künstlern.
CATEGORIES:Ausstellung/Museum,TKS
END:VEVENT
BEGIN:VTIMEZONE
TZID:Europe/Berlin
X-LIC-LOCATION:Europe/Berlin
BEGIN:DAYLIGHT
DTSTART:20250330T030000
TZOFFSETFROM:+0100
TZOFFSETTO:+0200
TZNAME:CEST
END:DAYLIGHT
END:VTIMEZONE
END:VCALENDAR