BEGIN:VCALENDAR
VERSION:2.0
PRODID:-//wp-events-plugin.com//7.2.3.1//EN
TZID:Europe/Berlin
X-WR-TIMEZONE:Europe/Berlin
BEGIN:VEVENT
UID:201@baeke-courier.de
DTSTART;TZID=Europe/Berlin:20251129T210000
DTEND;TZID=Europe/Berlin:20251129T235900
DTSTAMP:20251109T100418Z
URL:https://baeke-courier.de/events/90er-jahre-party/
SUMMARY:90er Jahre Party
DESCRIPTION:... eine Zeitreise in die bunten 90er Jahre mit DJ Bernd Blanke
 nburg.\nGut beraten ist\, wer sich rechtzeitig sein Ticket sichert\, da bi
 sher alle Mottopartys im Stubenrauchsaal ausverkauft waren.\n\nEinlass: ab
  20 Uhr. Kein Einlass unter 18 Jahren.\n\nEintritt: VVK 13 € | Ermäßig
 t* 10 € | AK 18 €\n\n*Die Ermäßigungen gelten für Kinder\, Schüler
 \, Studenten\, Rentner\, Sozialkarteninhaber\, Personen ab einem Grad der 
 Behinderung von 50\, Inhaber des Familienpasses in Begleitung mind. 1 Kind
 es und Inhaber der Ehrenamtskarte. Ermäßigungsnachweise sind am Einlass 
 unaufgefordert vorzulegen.\n\nKarten:\n• Tourist Information\, Marktplat
 z 1-3\, Teltow\, 03328-4781-293\n• Online-Tickets
CATEGORIES:Disco
LOCATION:Neues Rathaus\, Stubenrauchsaal\, Marktplatz 1-3\, Teltow\, 14513\
 , Deutschland
X-APPLE-STRUCTURED-LOCATION;VALUE=URI;X-ADDRESS=Marktplatz 1-3\, Teltow\, 1
 4513\, Deutschland;X-APPLE-RADIUS=100;X-TITLE=Neues Rathaus\, Stubenrauchs
 aal:geo:0,0
END:VEVENT
BEGIN:VTIMEZONE
TZID:Europe/Berlin
X-LIC-LOCATION:Europe/Berlin
BEGIN:STANDARD
DTSTART:20251026T020000
TZOFFSETFROM:+0200
TZOFFSETTO:+0100
TZNAME:CET
END:STANDARD
END:VTIMEZONE
END:VCALENDAR