BEGIN:VCALENDAR
VERSION:2.0
PRODID:-//wp-events-plugin.com//7.2.3.1//EN
TZID:Europe/Berlin
X-WR-TIMEZONE:Europe/Berlin
BEGIN:VEVENT
UID:115@baeke-courier.de
DTSTART;TZID=Europe/Berlin:20250510T100000
DTEND;TZID=Europe/Berlin:20250510T120000
DTSTAMP:20250426T120731Z
URL:https://baeke-courier.de/events/altstadtfuehrung-des-heimatvereins-tel
 tow/
SUMMARY:Altstadtführung des Heimatvereins Teltow
DESCRIPTION:Treffpunkt: Ruhlsdorfer Platz / Ecke Berliner Straße neben Caf
 é DREIKÄSEHOCH\n\nGeschichten und Geschichte unter alten Linden und übe
 r historisches Pflaster mit Hermann Lamprecht (Änderungen vorbehalten).\n
 \nDie Teilnahme ist frei\, Spenden sind erwünscht.\n\n&nbsp\;
CATEGORIES:Wanderung
END:VEVENT
BEGIN:VTIMEZONE
TZID:Europe/Berlin
X-LIC-LOCATION:Europe/Berlin
BEGIN:DAYLIGHT
DTSTART:20250330T030000
TZOFFSETFROM:+0100
TZOFFSETTO:+0200
TZNAME:CEST
END:DAYLIGHT
END:VTIMEZONE
END:VCALENDAR