BEGIN:VCALENDAR
VERSION:2.0
PRODID:-//wp-events-plugin.com//7.2.3.1//EN
TZID:Europe/Berlin
X-WR-TIMEZONE:Europe/Berlin
BEGIN:VEVENT
UID:144@baeke-courier.de
DTSTART;TZID=Europe/Berlin:20250617T160000
DTEND;TZID=Europe/Berlin:20250617T180000
DTSTAMP:20250530T090929Z
URL:https://baeke-courier.de/events/auf-dem-weg-in-die-digital-integrierte
 -produktion/
SUMMARY:Auf dem Weg in die digital integrierte Produktion
DESCRIPTION:Referent: Claudio Geisert\, Fraunhofer Institut für Produktion
 sanlagen und Konstruktionstechnik IPK Berlin\n\nEine Veranstaltungsreihe i
 n Kooperation mit dem Unternehmerverband Brandenburg Berlin e. V..
CATEGORIES:Vortrag
LOCATION:Industriemuseum Teltow\, Oderstr. 23 - 25\, Teltow\, 14513\, Deuts
 chland
X-APPLE-STRUCTURED-LOCATION;VALUE=URI;X-ADDRESS=Oderstr. 23 - 25\, Teltow\,
  14513\, Deutschland;X-APPLE-RADIUS=100;X-TITLE=Industriemuseum Teltow:geo
 :0,0
END:VEVENT
BEGIN:VTIMEZONE
TZID:Europe/Berlin
X-LIC-LOCATION:Europe/Berlin
BEGIN:DAYLIGHT
DTSTART:20250330T030000
TZOFFSETFROM:+0100
TZOFFSETTO:+0200
TZNAME:CEST
END:DAYLIGHT
END:VTIMEZONE
END:VCALENDAR