BEGIN:VCALENDAR
VERSION:2.0
PRODID:-//wp-events-plugin.com//7.2.3.1//EN
TZID:Europe/Berlin
X-WR-TIMEZONE:Europe/Berlin
BEGIN:VEVENT
UID:139@baeke-courier.de
DTSTART;TZID=Europe/Berlin:20250603T170000
DTEND;TZID=Europe/Berlin:20250603T183000
DTSTAMP:20250530T084511Z
URL:https://baeke-courier.de/events/auftakttour-stadtradeln-kleinmachnow/
SUMMARY:Auftakttour STADTRADELN Kleinmachnow
DESCRIPTION:Anlässlich des Weltfahrradtages am Dienstag\, den 3.6.2025\, l
 äutet Kleinmachnow die diesjährige STADTRADELN-Saison mit einer gemeinsa
 men Auftakttour ein.\nDie Gemeinde setzt damit ein starkes Zeichen für de
 n Radverkehr und motiviert die Bürgerinnen und Bürger\, die vielen Vorte
 ile des Fahrradfahrens hautnah zu erleben.\n\nTreffpunkt: Rathausmarkt\, z
 wischen Förster-Funke-Allee 102 und 104\n\nStrecke:\nFörster-Funke-Allee
 \, Karl-Marx-Straße\, Zehlendorfer Damm bis zum Alten Dorf.\nAllee am For
 sthaus\, Kleinmachnower Schleuse\, Hohe Kiefer\, Ernst-Thälmann-Straße\,
  Uhlenhorst.\nDie fast 6 km lange Strecke wird vom neuen Bürgermeister Bo
 do Krause angeführt und endet bei der Freiwilligen Feuerwehr (Am Bannwald
  1).\n\nAlle Fahrradbegeisterten ab 10 Jahren sind herzlich eingeladen\, s
 ich der Auftakttour anzuschließen.\nKinder unter 18 Jahren dürfen nur in
  Begleitung eines Erwachsenen teilnehmen.\nAls Belohnung spendiert Bürger
 meister Krause Bratwurst\, Bier und Brause mit freundlicher Unterstützung
  der Kameraden der Freiwilligen Feuerwehr.\n\nWährend der Tour werden die
  Straßenverkehrsregeln gemäß der StVO eingehalten. Die Gruppe fährt im
  geschlossenen Verband mit maximal 30 Teilnehmern als eine Einheit. Das Fa
 hren zu zweit nebeneinander ist erlaubt\, jedoch nicht in größeren Grupp
 en. An Ampeln passiert der Verband geschlossen die Kreuzung\, auch wenn di
 e hinteren Teilnehmenden erst bei Rot vorn ankommen.\n\nDie Teilnahme erfo
 lgt auf eigenes Risiko\, und die Gemeinde übernimmt keine Haftung für ev
 entuelle Schäden.\n\n(Quelle: Veranstaltungskalender Gemeinde Kleinmachno
 w)
CATEGORIES:Stadtradeln
LOCATION:Rathausmarkt\, Adolf-Grimme-Ring\, Kleinmachnow\, Deutschland
X-APPLE-STRUCTURED-LOCATION;VALUE=URI;X-ADDRESS=Adolf-Grimme-Ring\, Kleinma
 chnow\, Deutschland;X-APPLE-RADIUS=100;X-TITLE=Rathausmarkt:geo:0,0
END:VEVENT
BEGIN:VTIMEZONE
TZID:Europe/Berlin
X-LIC-LOCATION:Europe/Berlin
BEGIN:DAYLIGHT
DTSTART:20250330T030000
TZOFFSETFROM:+0100
TZOFFSETTO:+0200
TZNAME:CEST
END:DAYLIGHT
END:VTIMEZONE
END:VCALENDAR