BEGIN:VCALENDAR
VERSION:2.0
PRODID:-//wp-events-plugin.com//7.2.3.1//EN
TZID:Europe/Berlin
X-WR-TIMEZONE:Europe/Berlin
BEGIN:VEVENT
UID:247@baeke-courier.de
DTSTART;TZID=Europe/Berlin:20260426T170000
DTEND;TZID=Europe/Berlin:20260426T190000
DTSTAMP:20260425T091550Z
URL:https://baeke-courier.de/events/barockkonzert/
SUMMARY:Barockkonzert
DESCRIPTION:Der Chor der St. Andreaskirche wird mit Orchester und Solisten 
 das Credo von Antonio Vivaldi und die Kantate 146 von Johann Sebastian Bac
 h aufführen.\n\nDer Eintritt zu den Konzerten ist frei. Am Ausgang wird e
 ine Kollekte zur Finanzierung der Kirchenmusiken erbeten.
CATEGORIES:Konzert
LOCATION:St. Andreaskirche\, Breite Straße\, Teltow\, 14513\, Deutschland
X-APPLE-STRUCTURED-LOCATION;VALUE=URI;X-ADDRESS=Breite Straße\, Teltow\, 1
 4513\, Deutschland;X-APPLE-RADIUS=100;X-TITLE=St. Andreaskirche:geo:0,0
END:VEVENT
BEGIN:VTIMEZONE
TZID:Europe/Berlin
X-LIC-LOCATION:Europe/Berlin
BEGIN:DAYLIGHT
DTSTART:20260329T030000
TZOFFSETFROM:+0100
TZOFFSETTO:+0200
TZNAME:CEST
END:DAYLIGHT
END:VTIMEZONE
END:VCALENDAR