BEGIN:VCALENDAR
VERSION:2.0
PRODID:-//wp-events-plugin.com//7.2.3.1//EN
TZID:Europe/Berlin
X-WR-TIMEZONE:Europe/Berlin
BEGIN:VEVENT
UID:109@baeke-courier.de
DTSTART;TZID=Europe/Berlin:20250427T100000
DTEND;TZID=Europe/Berlin:20250427T110000
DTSTAMP:20250426T114247Z
URL:https://baeke-courier.de/events/baum-des-jahres-2025/
SUMMARY:Baum des Jahres 2025
DESCRIPTION:Pflanzung im Teltower Postviertel\n\nVeranstaltungsort: Beethov
 enstraße (Zugang über Carl-Orff-Straße\, neben Kita "Sonnenblume“) im
  Postviertel Teltow\n\nDie aus Nordamerika stammende Rot-Eiche ist zum Bau
 m des Jahres 2025 gewählt worden. Damit wird eine Baumart geehrt\, die im
  17. Jahrhundert als Zierbaum nach Europa gebracht wurde.\n\nInzwischen is
 t sie eine feste Größe in der Forstwirtschaft: Nicht zuletzt der Klimawa
 ndel sorgt dafür\, dass die robuste\, klimaresistente Rot-Eiche immer hä
 ufiger in unseren Wäldern und Parklandschaften zu sehen ist. Anlässlich 
 des „Tag des Baumes“\, der jährlich am 25. April begangen wird\, erwe
 itert die Initiativgruppe rund um den Teltower Baumliebhaber und Initiator
  Detlef Behnke die bestehende „Allee der Bäume“ um diesen\, mit seine
 m tiefroten Herbstkleid\, wunderschönen Baum. Interessierte sind herzlich
  eingeladen.\n\n(Quelle: Veranstaltungskalender Stadt Teltow)
CATEGORIES:Sonstiges
END:VEVENT
BEGIN:VTIMEZONE
TZID:Europe/Berlin
X-LIC-LOCATION:Europe/Berlin
BEGIN:DAYLIGHT
DTSTART:20250330T030000
TZOFFSETFROM:+0100
TZOFFSETTO:+0200
TZNAME:CEST
END:DAYLIGHT
END:VTIMEZONE
END:VCALENDAR