BEGIN:VCALENDAR
VERSION:2.0
PRODID:-//wp-events-plugin.com//7.2.3.1//EN
TZID:Europe/Berlin
X-WR-TIMEZONE:Europe/Berlin
BEGIN:VEVENT
UID:212@baeke-courier.de
DTSTART;TZID=Europe/Berlin:20260225T190000
DTEND;TZID=Europe/Berlin:20260225T203000
DTSTAMP:20260207T130026Z
URL:https://baeke-courier.de/events/buergerabend-in-stahnsdorf/
SUMMARY:Bürgerabend in Stahnsdorf
DESCRIPTION:Bau eines Logistikzentrums im Green Park – oder Erhalt besteh
 ender Strukturen?\n\nDie „Bürgerinitiative Green Park“ und der Verein
  „SputendorferGrün Stahnsdorf gem. e.V.“\nladen Bürgerinnen und Bür
 ger zu einem Informationsabend ein.
CATEGORIES:Informations-/Bürgerabend
LOCATION:Gemeindezentrum Stahnsdorf\, Annastraße 3\, Stahnsdorf\, Deutschl
 and
X-APPLE-STRUCTURED-LOCATION;VALUE=URI;X-ADDRESS=Annastraße 3\, Stahnsdorf\
 , Deutschland;X-APPLE-RADIUS=100;X-TITLE=Gemeindezentrum Stahnsdorf:geo:0,
 0
END:VEVENT
BEGIN:VTIMEZONE
TZID:Europe/Berlin
X-LIC-LOCATION:Europe/Berlin
BEGIN:STANDARD
DTSTART:20251026T020000
TZOFFSETFROM:+0200
TZOFFSETTO:+0100
TZNAME:CET
END:STANDARD
END:VTIMEZONE
END:VCALENDAR