BEGIN:VCALENDAR
VERSION:2.0
PRODID:-//wp-events-plugin.com//7.2.3.1//EN
TZID:Europe/Berlin
X-WR-TIMEZONE:Europe/Berlin
BEGIN:VEVENT
UID:108@baeke-courier.de
DTSTART;TZID=Europe/Berlin:20250527T200000
DTEND;TZID=Europe/Berlin:20250527T220000
DTSTAMP:20250426T113856Z
URL:https://baeke-courier.de/events/demokratie-ist-jetzt-erst-recht-2/
SUMMARY:Demokratie ist jetzt erst recht!
DESCRIPTION:In den Tagen vor der Wahl in Brandenburg im September 2024 prod
 uzierten die Neuen Kammerspiele Kleinmachnow eine literarisch-musikalisch-
 szenische Revue unter dem Titel DEMOKRATIE IST SCHÖN\, MACHT ABER VIEL AR
 BEIT. (Karl Valentin)\n\nEintritt frei\, Spenden willkommen\n\nAufgrund de
 s großen Erfolges und vieler toller Diskussionen nach den beiden Vorstell
 ungen gibt es ab Januar 2025 an jedem letzten Dienstag im Monat in den Neu
 en Kammerspielen eine Mischung aus Talk\, Late Night und szenischer Lesung
 . Ilona Nymoen\, Caro Huder und Joachim Kosack werden jeweils mit wechseln
 den Menschen aus Kleinmachnow Texte und Lieder aufführen\, mit Spezialist
 en und Spezialistinnen\, Journalisten und Journalistinnen sprechen oder au
 ch prominente Gäste einladen\, ihre Gedanken\, Lieder oder Texte zum Best
 en zu geben.\n\nUnterschiedliche Bands und Musiker/-innen komplettieren di
 e Reihe. Je nach Ausgestaltung des Programms finden die Abende im Foyer od
 er großen Saal statt.\n\n(Quelle: Veranstaltungskalender Gemeinde Kleinma
 chnow)
CATEGORIES:TKS
LOCATION:Neue Kammerspiele\, Katl-Marx-Str. 18\, Kleinmachnow\, Deutschland
X-APPLE-STRUCTURED-LOCATION;VALUE=URI;X-ADDRESS=Katl-Marx-Str. 18\, Kleinma
 chnow\, Deutschland;X-APPLE-RADIUS=100;X-TITLE=Neue Kammerspiele:geo:0,0
END:VEVENT
BEGIN:VTIMEZONE
TZID:Europe/Berlin
X-LIC-LOCATION:Europe/Berlin
BEGIN:DAYLIGHT
DTSTART:20250330T030000
TZOFFSETFROM:+0100
TZOFFSETTO:+0200
TZNAME:CEST
END:DAYLIGHT
END:VTIMEZONE
END:VCALENDAR