BEGIN:VCALENDAR
VERSION:2.0
PRODID:-//wp-events-plugin.com//7.2.3.1//EN
TZID:Europe/Berlin
X-WR-TIMEZONE:Europe/Berlin
BEGIN:VEVENT
UID:105@baeke-courier.de
DTSTART;TZID=Europe/Berlin:20250509T200000
DTEND;TZID=Europe/Berlin:20250509T220000
DTSTAMP:20250426T111355Z
URL:https://baeke-courier.de/events/georg-schroeter-und-marc-breitfelder/
SUMMARY:Georg Schröter und Marc Breitfelder
DESCRIPTION:KultRaum Kleinmachnow e. V. präsentiert Deutschlands erfolgrei
 chstes Blues Duo - OpenAir.\n\nEintritt:\n20\,00 €\n18 Euro im Vorverkau
 f bei natura am Rathausmarkt\n\nVon ihren inzwischen 21 nationalen und int
 ernationalen Preisen erhielten Georg Schroeter und Marc Breitfelder den bi
 sher größten und wichtigsten im Jahr 2011 in den U.S.A. In Memphis/Tenne
 ssee erspielten sie sich bei dem bedeutendsten Blues-Wettbewerb der Welt\,
  der International Blues Challenge\, den 1. Platz in der Kategorie Solo/Du
 o. Das ist bis heute keinen anderen Europäern gelungen.\n\nDie für den B
 lues Fan anfangs etwas ungewöhnlich erscheinende Instrumentierung mit Kla
 vier und Mundharmonika hat sich als Formation in den letzten Jahren intern
 ational durchgesetzt und zeigt die Vielseitigkeit und Fröhlichkeit dieser
  handgemachten Musik. Das Klavierspiel ersetzt die Rhythmus-Gitarre sowie 
 den Bass\, und die Mundharmonika kann auch mal wie eine Geige oder wie die
  E-Gitarre von Jimi Hendrix oder Jeff Beck klingen. Eigenkompositionen rei
 hen sich mühelos an Bearbeitungen von Rock und Blues-Titeln\, u. a. aus d
 en Federn von Muddy Waters\, den Rolling Stones oder J.J. Cale\, die jedoc
 h niemals einfach nur nachgespielt\, sondern immer in einer ganz eigenen V
 ersion und jeden Abend ein bisschen anders gespielt werden\, da die Improv
 isation einen wichtigen\, wenn nicht den wichtigsten Anteil ihrer Musik au
 smacht. Lange\, instrumental virtuose Solopassagen von Klavier und Mundhar
 monika begeistern dabei ebenso wie Georg Schroeters Gesang mit der ihm so 
 eigenen\, unnachahmlich warmen Stimme wurden 18 Mal für den Deutschen Blu
 es Award nominiert sowie 2010\, 2013 und 2016 als bestes Blues Duo und in 
 den Kategorien Blues-Harp und Piano ausgezeichnet.\n\n(Quelle: Veranstaltu
 ngsplan Kleinmachnow)
CATEGORIES:Konzert
LOCATION:Landarbeiterhaus Z200\, Zehlendorfer Damm 200\, Kleinmachnow\, Deu
 tschland
X-APPLE-STRUCTURED-LOCATION;VALUE=URI;X-ADDRESS=Zehlendorfer Damm 200\, Kle
 inmachnow\, Deutschland;X-APPLE-RADIUS=100;X-TITLE=Landarbeiterhaus Z200:g
 eo:0,0
END:VEVENT
BEGIN:VTIMEZONE
TZID:Europe/Berlin
X-LIC-LOCATION:Europe/Berlin
BEGIN:DAYLIGHT
DTSTART:20250330T030000
TZOFFSETFROM:+0100
TZOFFSETTO:+0200
TZNAME:CEST
END:DAYLIGHT
END:VTIMEZONE
END:VCALENDAR