BEGIN:VCALENDAR
VERSION:2.0
PRODID:-//wp-events-plugin.com//7.2.3.1//EN
TZID:Europe/Berlin
X-WR-TIMEZONE:Europe/Berlin
BEGIN:VEVENT
UID:211@baeke-courier.de
DTSTART;TZID=Europe/Berlin:20260219T181500
DTEND;TZID=Europe/Berlin:20260219T193000
DTSTAMP:20260207T124520Z
URL:https://baeke-courier.de/events/geschichten-aus-der-sofa-ecke/
SUMMARY:Geschichten aus der Sofa-Ecke
DESCRIPTION:„Das geschenkte Leben“ – Leben mit einem Spenderherz\nGes
 präch mit Rudi Fischer\n\n&nbsp\;
CATEGORIES:Lesung
LOCATION:Gemeindebibliothek Stahnsdorf\, Annastraße 3\, Stahnsdorf\, Deuts
 chland
X-APPLE-STRUCTURED-LOCATION;VALUE=URI;X-ADDRESS=Annastraße 3\, Stahnsdorf\
 , Deutschland;X-APPLE-RADIUS=100;X-TITLE=Gemeindebibliothek Stahnsdorf:geo
 :0,0
END:VEVENT
BEGIN:VTIMEZONE
TZID:Europe/Berlin
X-LIC-LOCATION:Europe/Berlin
BEGIN:STANDARD
DTSTART:20251026T020000
TZOFFSETFROM:+0200
TZOFFSETTO:+0100
TZNAME:CET
END:STANDARD
END:VTIMEZONE
END:VCALENDAR