BEGIN:VCALENDAR
VERSION:2.0
PRODID:-//wp-events-plugin.com//7.2.3.1//EN
TZID:Europe/Berlin
X-WR-TIMEZONE:Europe/Berlin
BEGIN:VEVENT
UID:192@baeke-courier.de
DTSTART;TZID=Europe/Berlin:20251031T170000
DTEND;TZID=Europe/Berlin:20251031T180000
DTSTAMP:20251020T100426Z
URL:https://baeke-courier.de/events/halloween/
SUMMARY:Halloween
DESCRIPTION:... ab 17 Uhr im Stahnsdorfer Gemeindezentrum (Foyer)\, Annastr
 . 3.\n\n\n\n&nbsp\;\n\n&nbsp\;\n\n&nbsp\;\n\n&nbsp\;\n\n&nbsp\;\n\n&nbsp\;
 \n\n&nbsp\;\n\nAuch in den Neuen Kammerspielen Kleinmachnow wirds gruselig
 \, ab 15 Uhr\, Eintritt 5 Euro.
CATEGORIES:Fest
END:VEVENT
BEGIN:VTIMEZONE
TZID:Europe/Berlin
X-LIC-LOCATION:Europe/Berlin
BEGIN:STANDARD
DTSTART:20251026T020000
TZOFFSETFROM:+0200
TZOFFSETTO:+0100
TZNAME:CET
END:STANDARD
END:VTIMEZONE
END:VCALENDAR