BEGIN:VCALENDAR
VERSION:2.0
PRODID:-//wp-events-plugin.com//7.2.3.1//EN
TZID:Europe/Berlin
X-WR-TIMEZONE:Europe/Berlin
BEGIN:VEVENT
UID:214@baeke-courier.de
DTSTART;TZID=Europe/Berlin:20260227T193000
DTEND;TZID=Europe/Berlin:20260227T213000
DTSTAMP:20260207T130704Z
URL:https://baeke-courier.de/events/hot-jazz-friday/
SUMMARY:Hot Jazz Friday
DESCRIPTION:Die Musik der sechs Bandmitglieder um Christian Hetz ist fröhl
 ich und handgemacht. Sie spielen feinsten Jazz\, gern auch mal improvisier
 t.\n\nEinlass: ab 19 Uhr\nEintritt: VVK 12 € | Ermäßigt 10 € | AK 14
  €*\n\nKarten:\n• Tourist Information\, Marktplatz 1-3\, Teltow\, 0332
 84781-293\n• Bei allen bekannten Vorverkaufsstellen\n• Online-Tickets 
 erhalten Sie hier.\n\n*Die Ermäßigungen gelten für Kinder\, Schüler\, 
 Studenten\, Rentner\, Sozialkarteninhaber\, Personen ab einem Grad der Beh
 inderung von 50\, Inhaber des Familienpasses in Begleitung mind. 1 Kindes 
 und Inhaber der Ehrenamtskarte. Ermäßigungsnachweise sind am Einlass una
 ufgefordert vorzulegen.
CATEGORIES:Konzert
LOCATION:Bürgerhaus Teltow\, Ritterstraße 10\, Teltow\, 14513\, Deutschla
 nd
X-APPLE-STRUCTURED-LOCATION;VALUE=URI;X-ADDRESS=Ritterstraße 10\, Teltow\,
  14513\, Deutschland;X-APPLE-RADIUS=100;X-TITLE=Bürgerhaus Teltow:geo:0,0
END:VEVENT
BEGIN:VTIMEZONE
TZID:Europe/Berlin
X-LIC-LOCATION:Europe/Berlin
BEGIN:STANDARD
DTSTART:20251026T020000
TZOFFSETFROM:+0200
TZOFFSETTO:+0100
TZNAME:CET
END:STANDARD
END:VTIMEZONE
END:VCALENDAR