BEGIN:VCALENDAR
VERSION:2.0
PRODID:-//wp-events-plugin.com//7.2.3.1//EN
TZID:Europe/Berlin
X-WR-TIMEZONE:Europe/Berlin
BEGIN:VEVENT
UID:193@baeke-courier.de
DTSTART;TZID=Europe/Berlin:20251024T180000
DTEND;TZID=Europe/Berlin:20251024T220000
DTSTAMP:20251020T101334Z
URL:https://baeke-courier.de/events/jugend-im-neonfieber/
SUMMARY:Jugend im Neonfieber
DESCRIPTION:Die Stadt Teltow lädt Teens im Alter von 14 bis 18 Jahren herz
 lich zur ersten Jugenddisco im Stubenrauchsaal ein. Vier Stunden mit Neon-
 Vibes\, und DJ beKo heizt mit den freshesten Beats ein.\n\nEin Freigeträn
 k ist im Eintritt inklusive. Kein Einlass unter 14 Jahren! Bitte einen Alt
 ersnachweis (Schülerausweis\, Personalausweis\, Führerschein) zum Einlas
 s mitbringen!\n\nTickets im Vorverkauf: 3 € über Tourist Information\, 
 Marktplatz 1-3\, 14513 Teltow oder online.\n\nTickets an der Abendkasse: 5
  €
CATEGORIES:Disco
LOCATION:Neues Rathaus\, Stubenrauchsaal\, Marktplatz 1-3\, Teltow\, 14513\
 , Deutschland
X-APPLE-STRUCTURED-LOCATION;VALUE=URI;X-ADDRESS=Marktplatz 1-3\, Teltow\, 1
 4513\, Deutschland;X-APPLE-RADIUS=100;X-TITLE=Neues Rathaus\, Stubenrauchs
 aal:geo:0,0
END:VEVENT
BEGIN:VTIMEZONE
TZID:Europe/Berlin
X-LIC-LOCATION:Europe/Berlin
BEGIN:DAYLIGHT
DTSTART:20250330T030000
TZOFFSETFROM:+0100
TZOFFSETTO:+0200
TZNAME:CEST
END:DAYLIGHT
END:VTIMEZONE
END:VCALENDAR