BEGIN:VCALENDAR
VERSION:2.0
PRODID:-//wp-events-plugin.com//7.2.3.1//EN
TZID:Europe/Berlin
X-WR-TIMEZONE:Europe/Berlin
BEGIN:VEVENT
UID:200@baeke-courier.de
DTSTART;TZID=Europe/Berlin:20251115T200000
DTEND;TZID=Europe/Berlin:20251115T235900
DTSTAMP:20251109T095543Z
URL:https://baeke-courier.de/events/karneval-mit-dem-tcc/
SUMMARY:Karneval mit dem TCC
DESCRIPTION:Der TCC lädt ein.\nEintritt: 15 €\nTickets: www.tcc-teltow.d
 e
CATEGORIES:Carneval/Fasching
END:VEVENT
BEGIN:VTIMEZONE
TZID:Europe/Berlin
X-LIC-LOCATION:Europe/Berlin
BEGIN:STANDARD
DTSTART:20251026T020000
TZOFFSETFROM:+0200
TZOFFSETTO:+0100
TZNAME:CET
END:STANDARD
END:VTIMEZONE
END:VCALENDAR