BEGIN:VCALENDAR
VERSION:2.0
PRODID:-//wp-events-plugin.com//7.2.3.1//EN
TZID:Europe/Berlin
X-WR-TIMEZONE:Europe/Berlin
BEGIN:VEVENT
UID:99@baeke-courier.de
DTSTART;TZID=Europe/Berlin:20250611T200000
DTEND;TZID=Europe/Berlin:20250611T220000
DTSTAMP:20250426T100155Z
URL:https://baeke-courier.de/events/kleinmachnow-singt-2/
SUMMARY:Kleinmachnow singt
DESCRIPTION:Manche nennen es Rudelsingen\, andere nennen es freier Chor. Wi
 r\, die SingInTown-Band\, nennen es zwei Stunden die volle Packung Glück 
 für die Seele.\n\nDenn Singen macht einfach glücklich und ist eine wohlt
 uende Massage für die Seele.\n\nFühlt Euch frei\, öffnet Eure Herzen un
 d nehmt dieses emotionale Erlebnis einfach mit. Es lohnt sich!\n\nTickets 
 gibt es nur an der Abendkasse.\n\nWeiterer Termin:\nMittwoch\, 09. Juli
CATEGORIES:TKS
LOCATION:Neue Kammerspiele\, Katl-Marx-Str. 18\, Kleinmachnow\, Deutschland
X-APPLE-STRUCTURED-LOCATION;VALUE=URI;X-ADDRESS=Katl-Marx-Str. 18\, Kleinma
 chnow\, Deutschland;X-APPLE-RADIUS=100;X-TITLE=Neue Kammerspiele:geo:0,0
END:VEVENT
BEGIN:VTIMEZONE
TZID:Europe/Berlin
X-LIC-LOCATION:Europe/Berlin
BEGIN:DAYLIGHT
DTSTART:20250330T030000
TZOFFSETFROM:+0100
TZOFFSETTO:+0200
TZNAME:CEST
END:DAYLIGHT
END:VTIMEZONE
END:VCALENDAR