BEGIN:VCALENDAR
VERSION:2.0
PRODID:-//wp-events-plugin.com//7.2.3.1//EN
TZID:Europe/Berlin
X-WR-TIMEZONE:Europe/Berlin
BEGIN:VEVENT
UID:206@baeke-courier.de
DTSTART;TZID=Europe/Berlin:20260211T200000
DTEND;TZID=Europe/Berlin:20260211T220000
DTSTAMP:20260207T122943Z
URL:https://baeke-courier.de/events/kleinmachnow-singt-4/
SUMMARY:Kleinmachnow singt
DESCRIPTION:Manche nennen es Rudelsingen\, andere nennen es freier Chor …
  auf jeden Fall sind es zwei Stunden die volle Packung Glück für die See
 le. Denn Singen macht einfach glücklich und ist eine wohltuende Massage f
 ür die Seele.\n\nTickets an der Abendkasse
CATEGORIES:Mitsingkonzert
LOCATION:Neue Kammerspiele\, Katl-Marx-Str. 18\, Kleinmachnow\, Deutschland
X-APPLE-STRUCTURED-LOCATION;VALUE=URI;X-ADDRESS=Katl-Marx-Str. 18\, Kleinma
 chnow\, Deutschland;X-APPLE-RADIUS=100;X-TITLE=Neue Kammerspiele:geo:0,0
END:VEVENT
BEGIN:VTIMEZONE
TZID:Europe/Berlin
X-LIC-LOCATION:Europe/Berlin
BEGIN:STANDARD
DTSTART:20251026T020000
TZOFFSETFROM:+0200
TZOFFSETTO:+0100
TZNAME:CET
END:STANDARD
END:VTIMEZONE
END:VCALENDAR