BEGIN:VCALENDAR
VERSION:2.0
PRODID:-//wp-events-plugin.com//7.2.3.1//EN
TZID:Europe/Berlin
X-WR-TIMEZONE:Europe/Berlin
BEGIN:VEVENT
UID:203@baeke-courier.de
DTSTART;TZID=Europe/Berlin:20260110T160000
DTEND;TZID=Europe/Berlin:20260110T210000
DTSTAMP:20260106T180228Z
URL:https://baeke-courier.de/events/knutfeuer/
SUMMARY:Knutfeuer
DESCRIPTION:... mit Grillstand\, Glühwein &amp\; Punsch\n\nAbgeputzte Weih
 nachtsbäume können ab 6.1.2026 auf dem Übungsgelände der FFW in Stahns
 dorf\, Annastraße 5\, abgelegt werden.
CATEGORIES:Sonstiges
LOCATION:Freiwillige Feuerwehr Stahnsdorf\, Annastraße 5\, Stahnsdorf\, 14
 532\, Deutschland
X-APPLE-STRUCTURED-LOCATION;VALUE=URI;X-ADDRESS=Annastraße 5\, Stahnsdorf\
 , 14532\, Deutschland;X-APPLE-RADIUS=100;X-TITLE=Freiwillige Feuerwehr Sta
 hnsdorf:geo:0,0
END:VEVENT
BEGIN:VTIMEZONE
TZID:Europe/Berlin
X-LIC-LOCATION:Europe/Berlin
BEGIN:STANDARD
DTSTART:20251026T020000
TZOFFSETFROM:+0200
TZOFFSETTO:+0100
TZNAME:CET
END:STANDARD
END:VTIMEZONE
END:VCALENDAR