BEGIN:VCALENDAR
VERSION:2.0
PRODID:-//wp-events-plugin.com//7.2.3.1//EN
TZID:Europe/Berlin
X-WR-TIMEZONE:Europe/Berlin
BEGIN:VEVENT
UID:219@baeke-courier.de
DTSTART;TZID=Europe/Berlin:20260308T200000
DTEND;TZID=Europe/Berlin:20260308T220000
DTSTAMP:20260207T131821Z
URL:https://baeke-courier.de/events/laura-braun-vom-weg-ab/
SUMMARY:Laura Braun: Vom Weg ab
DESCRIPTION:8.3.2026\, 20 – 22\n\nEin Konzertabend von Laura Braun ist ei
 ne emotionale Achterbahnfahrt\, die aufwühlt\, wieder versöhnt und noch 
 viele Tage nachhallt\, ein Abend ohne Maske\, fein\, inspirierend und zuti
 efst berührend.\n\nKultRaum Kleinmachnow e.V.\n\nEintritt 20\,00 €\n18 
 Euro im Vorverkauf bei natura am Rathausmarkt.
CATEGORIES:Konzert
LOCATION:Landarbeiterhaus Z200\, Zehlendorfer Damm 200\, Kleinmachnow\, Deu
 tschland
X-APPLE-STRUCTURED-LOCATION;VALUE=URI;X-ADDRESS=Zehlendorfer Damm 200\, Kle
 inmachnow\, Deutschland;X-APPLE-RADIUS=100;X-TITLE=Landarbeiterhaus Z200:g
 eo:0,0
END:VEVENT
BEGIN:VTIMEZONE
TZID:Europe/Berlin
X-LIC-LOCATION:Europe/Berlin
BEGIN:STANDARD
DTSTART:20251026T020000
TZOFFSETFROM:+0200
TZOFFSETTO:+0100
TZNAME:CET
END:STANDARD
END:VTIMEZONE
END:VCALENDAR