BEGIN:VCALENDAR
VERSION:2.0
PRODID:-//wp-events-plugin.com//7.2.3.1//EN
TZID:Europe/Berlin
X-WR-TIMEZONE:Europe/Berlin
BEGIN:VEVENT
UID:215@baeke-courier.de
DTSTART;TZID=Europe/Berlin:20260301T110000
DTEND;TZID=Europe/Berlin:20260301T131500
DTSTAMP:20260207T131002Z
URL:https://baeke-courier.de/events/lino-frieses-circus-variete/
SUMMARY:Lino Frieses Circus Varieté
DESCRIPTION:Lino Frieses Circus Varieté\nSpektakel voller magischer Moment
 e\, humorvollen Comedy-Einlagen und atemberaubender Artistik\n\nEintritt: 
 28\,50 €
CATEGORIES:Sonstiges
LOCATION:Neue Kammerspiele\, Katl-Marx-Str. 18\, Kleinmachnow\, Deutschland
X-APPLE-STRUCTURED-LOCATION;VALUE=URI;X-ADDRESS=Katl-Marx-Str. 18\, Kleinma
 chnow\, Deutschland;X-APPLE-RADIUS=100;X-TITLE=Neue Kammerspiele:geo:0,0
END:VEVENT
BEGIN:VTIMEZONE
TZID:Europe/Berlin
X-LIC-LOCATION:Europe/Berlin
BEGIN:STANDARD
DTSTART:20251026T020000
TZOFFSETFROM:+0200
TZOFFSETTO:+0100
TZNAME:CET
END:STANDARD
END:VTIMEZONE
END:VCALENDAR