BEGIN:VCALENDAR
VERSION:2.0
PRODID:-//wp-events-plugin.com//7.2.3.1//EN
TZID:Europe/Berlin
X-WR-TIMEZONE:Europe/Berlin
BEGIN:VEVENT
UID:141@baeke-courier.de
DTSTART;TZID=Europe/Berlin:20250606T190000
DTEND;TZID=Europe/Berlin:20250606T203000
DTSTAMP:20250530T085315Z
URL:https://baeke-courier.de/events/meisterkonzert-mit-cello-und-klavier/
SUMMARY:Meisterkonzert mit Cello und Klavier
DESCRIPTION:Mit dem 2024 gegründeten Duo von Wrochem/Seroussi verbindet in
  seinem zweiten Programm besonders beliebte Stücke.\n\nEs gibt die zweite
  beschwingte Cellosonate von Beethoven in g-moll mit dem Märchen von Jan
 ácek\, der skurrilen Sonate von Debussy und der von Brahms selbst erstell
 ten Bearbeitung seiner Regenlied-Violinsonate für Cello. Das Stück spiel
 te er zur Beisetzung von Clara Schumann. Ein Abend großer emotionaler Tie
 fe ...\n\nUm formlose Anmeldung an info@ausklang.org wird gebeten\n\nEintr
 itt frei\, Spenden willkommen
CATEGORIES:Konzert
LOCATION:Bürgersaal\, Rathaus Kleinmachnow\, Adolf-Grimme-Ring 10\, Kleinm
 achnow\, 14532\, Deutschland
X-APPLE-STRUCTURED-LOCATION;VALUE=URI;X-ADDRESS=Adolf-Grimme-Ring 10\, Klei
 nmachnow\, 14532\, Deutschland;X-APPLE-RADIUS=100;X-TITLE=Bürgersaal\, Ra
 thaus Kleinmachnow:geo:0,0
END:VEVENT
BEGIN:VTIMEZONE
TZID:Europe/Berlin
X-LIC-LOCATION:Europe/Berlin
BEGIN:DAYLIGHT
DTSTART:20250330T030000
TZOFFSETFROM:+0100
TZOFFSETTO:+0200
TZNAME:CEST
END:DAYLIGHT
END:VTIMEZONE
END:VCALENDAR