BEGIN:VCALENDAR
VERSION:2.0
PRODID:-//wp-events-plugin.com//7.2.3.1//EN
TZID:Europe/Berlin
X-WR-TIMEZONE:Europe/Berlin
BEGIN:VEVENT
UID:7@baeke-courier.de
DTSTART;TZID=Europe/Berlin:20241206T160000
DTEND;TZID=Europe/Berlin:20241206T180000
DTSTAMP:20241123T125803Z
URL:https://baeke-courier.de/events/nikolausfest/
SUMMARY:Nikolausfest
DESCRIPTION:Der Kita-Eigenbetrieb „MenschensKinder Teltow“ lädt zum tr
 aditionellen Nikolausfest auf dem Marktplatz in der Teltower Altstadt ein.
 \nIm Lichterglanz und bei vorweihnachtlicher Atmosphäre feiert der städt
 ische Eigenbetrieb alljährlich am 6. Dezember von 16 bis 18 Uhr mit seine
 n Kitas auf dem Marktplatz sein traditionelles Nikolausfest.\nZahlreiche w
 eihnachtlich geschmückte Stände erwarten die Besucher\, an denen neben a
 llerlei Gaumenfreuden auch Kinderbasteln und viele Geschenkideen angeboten
  werden. Für weihnachtliche Stimmung und Unterhaltung sorgt auch ein reic
 hhaltiges Kulturprogramm. Alle Kitas des Eigenbetriebes machen mit und org
 anisieren diesen besonderen kleinen Weihnachtsmarkt.
CATEGORIES:TKS-Advent/Weihnachten
LOCATION:TKS\, Altstadt\, Teltow\, Deutschland
X-APPLE-STRUCTURED-LOCATION;VALUE=URI;X-ADDRESS=Altstadt\, Teltow\, Deutsch
 land;X-APPLE-RADIUS=100;X-TITLE=TKS:geo:0,0
END:VEVENT
BEGIN:VTIMEZONE
TZID:Europe/Berlin
X-LIC-LOCATION:Europe/Berlin
BEGIN:STANDARD
DTSTART:20241027T020000
TZOFFSETFROM:+0200
TZOFFSETTO:+0100
TZNAME:CET
END:STANDARD
END:VTIMEZONE
END:VCALENDAR