BEGIN:VCALENDAR
VERSION:2.0
PRODID:-//wp-events-plugin.com//7.2.3.1//EN
TZID:Europe/Berlin
X-WR-TIMEZONE:Europe/Berlin
BEGIN:VEVENT
UID:143@baeke-courier.de
DTSTART;TZID=Europe/Berlin:20250619T190000
DTEND;TZID=Europe/Berlin:20250619T200000
DTSTAMP:20250530T090533Z
URL:https://baeke-courier.de/events/objekte-aus-650-jahren-kleinmachnower-
 geschichte/
SUMMARY:"Objekte" aus 650 Jahren Kleinmachnower Geschichte
DESCRIPTION:Ausstellungseröffnung\n\nDer Heimat- und Kulturvereins e. V. z
 eigt im Rathaus seltene und meist unbekannte Fundstücke und Alltagsobjekt
 e\, die den Zeitraum vom 14. bis 21. Jahrhundert abbilden.\n\nSo werden vo
 n Mitte Juni bis Ende August 2025 unter anderem historische Kirchenbücher
 \, das Metronom Kurt Weills\, Geschirr aus verschiedenen Jahrhunderten und
  eine Relief-Kartusche vom Herrenhaus aus dem Familienbesitz derer von Hak
 e zu sehen sein – allerdings nicht im Original\, sondern in Abbildungen.
 \n\nErfahren Sie mehr: 650 Jahre - Kleinmachnow feiert wieder Jubiläum\n\
 nAusstellungseröffnung: 19.6.2025\, 19 Uhr\nDauer der Ausstellung: 19.6. 
 - 31.8.2025\n\nÖffnungszeiten:\nMontag\, Dienstag\, Donnerstag\, Freitag 
 | 9 – 18 Uhr\n1. Sonnabend im Monat | 10 – 13 Uhr\nund während der Ve
 ranstaltungen\n\nDer Eintritt ist frei!
CATEGORIES:Ausstellung/Museum
LOCATION:Bürgersaal\, Rathaus Kleinmachnow\, Adolf-Grimme-Ring 10\, Kleinm
 achnow\, 14532\, Deutschland
X-APPLE-STRUCTURED-LOCATION;VALUE=URI;X-ADDRESS=Adolf-Grimme-Ring 10\, Klei
 nmachnow\, 14532\, Deutschland;X-APPLE-RADIUS=100;X-TITLE=Bürgersaal\, Ra
 thaus Kleinmachnow:geo:0,0
END:VEVENT
BEGIN:VTIMEZONE
TZID:Europe/Berlin
X-LIC-LOCATION:Europe/Berlin
BEGIN:DAYLIGHT
DTSTART:20250330T030000
TZOFFSETFROM:+0100
TZOFFSETTO:+0200
TZNAME:CEST
END:DAYLIGHT
END:VTIMEZONE
END:VCALENDAR