BEGIN:VCALENDAR
VERSION:2.0
PRODID:-//wp-events-plugin.com//7.2.3.1//EN
TZID:Europe/Berlin
X-WR-TIMEZONE:Europe/Berlin
BEGIN:VEVENT
UID:113@baeke-courier.de
DTSTART;TZID=Europe/Berlin:20250509T193000
DTEND;TZID=Europe/Berlin:20250509T220000
DTSTAMP:20250426T115834Z
URL:https://baeke-courier.de/events/one-lady-two-gentlemen/
SUMMARY:One lady & two gentlemen
DESCRIPTION:Feinste Dinner- und Bar-Musik im Bürgerhaus\n\n"One Lady &amp\
 ; Two Gentlemen" spielen feinste Dinner und Bar Musik! Hauptsächlich aus 
 dem Great American Songbook\, mit bekannten Liedern\, aber auch selten geh
 örten. Stilgerecht dargeboten von Ralph Allison am Schlagzeug\, Nikolaj M
 iller am Piano und Anna Kuhn am Mikrofon.\n\nWir laden Sie ein zu einem sc
 hwungvollen Abend mit sehr viel Spielfreude und einem Augenzwinkern!\n\nEi
 nlass: 19 Uhr\n\nEintritt: VVK 12€ | Ermäßigt 10€ | AK 14€\n\nDie 
 Ermäßigungen gelten für Kinder\, Schüler\, Studenten\, Rentner\, Sozia
 lkarteninhaber\, Personen ab einem Grad der Behinderung von 50\, Inhaber d
 es Familienpasses in Begleitung mind. 1 Kindes und Inhaber der Ehrenamtska
 rte. Ermäßigungsnachweise sind am Einlass unaufgefordert vorzulegen.\n\n
 Karten:\n• Tourist Information\, Marktplatz 1-3\, Teltow\, Tel.: 03328/4
 781293\n• Bei allen bekannten Vorverkaufsstellen\n• Online-Tickets erh
 alten Sie hier.
CATEGORIES:Sonstiges
LOCATION:Bürgerhaus Teltow\, Ritterstraße 10\, Teltow\, 14513\, Deutschla
 nd
X-APPLE-STRUCTURED-LOCATION;VALUE=URI;X-ADDRESS=Ritterstraße 10\, Teltow\,
  14513\, Deutschland;X-APPLE-RADIUS=100;X-TITLE=Bürgerhaus Teltow:geo:0,0
END:VEVENT
BEGIN:VTIMEZONE
TZID:Europe/Berlin
X-LIC-LOCATION:Europe/Berlin
BEGIN:DAYLIGHT
DTSTART:20250330T030000
TZOFFSETFROM:+0100
TZOFFSETTO:+0200
TZNAME:CEST
END:DAYLIGHT
END:VTIMEZONE
END:VCALENDAR