BEGIN:VCALENDAR
VERSION:2.0
PRODID:-//wp-events-plugin.com//7.2.3.1//EN
TZID:Europe/Berlin
X-WR-TIMEZONE:Europe/Berlin
BEGIN:VEVENT
UID:59@baeke-courier.de
DTSTART;TZID=Europe/Berlin:20250222T200000
DTEND;TZID=Europe/Berlin:20250222T235900
DTSTAMP:20250201T103426Z
URL:https://baeke-courier.de/events/peace-love-carnival-karneval-mit-dem-t
 cc/
SUMMARY:„Peace\, Love & Carnival“ - Karneval mit dem TCC
DESCRIPTION:Der Teltower Carneval Club feiert Karneval im Stubenrauchsaal!\
 n\nDie größte Flower-Power-Party des Jahres des Teltower Carneval Club e
 . V. (TCC) steht bevor!\nZum 70. Geburtstag lädt der Verein zu einer Reis
 e in die wilden 1970er Jahre ein.\n\nWeitere Veranstaltungen:\n\nFreitag\,
  28. Februar 2025\, 21:00 Uhr - Ladies Night\nSamstag\, 1. März 2025\, 20
 :00 Uhr\nNEU: Sonntag\, 2. März 2025\, 15:00 Uhr - Kinderfasching*\nMonta
 g\, 3. März 2025\, 20:00 Uhr\n\nKartenvorverkauf: https://www.tcc-teltow.
 de/kartenverkauf-online\n\n* Aufgrund der Bundestagswahl am 23.02.25 musst
 e der Termin für den Kinderfasching verschoben werden. Alle bisher über 
 den Kartenvorverkauf erworbenen Tickets für den alten Termin behalten ihr
 e Gültigkeit.
CATEGORIES:TKS
LOCATION:Neues Rathaus\, Stubenrauchsaal\, Marktplatz 1-3\, Teltow\, 14513\
 , Deutschland
X-APPLE-STRUCTURED-LOCATION;VALUE=URI;X-ADDRESS=Marktplatz 1-3\, Teltow\, 1
 4513\, Deutschland;X-APPLE-RADIUS=100;X-TITLE=Neues Rathaus\, Stubenrauchs
 aal:geo:0,0
END:VEVENT
BEGIN:VTIMEZONE
TZID:Europe/Berlin
X-LIC-LOCATION:Europe/Berlin
BEGIN:STANDARD
DTSTART:20241027T020000
TZOFFSETFROM:+0200
TZOFFSETTO:+0100
TZNAME:CET
END:STANDARD
END:VTIMEZONE
END:VCALENDAR