BEGIN:VCALENDAR
VERSION:2.0
PRODID:-//wp-events-plugin.com//7.2.3.1//EN
TZID:Europe/Berlin
X-WR-TIMEZONE:Europe/Berlin
BEGIN:VEVENT
UID:246@baeke-courier.de
DTSTART;TZID=Europe/Berlin:20260426T100000
DTEND;TZID=Europe/Berlin:20260426T110000
DTSTAMP:20260425T090935Z
URL:https://baeke-courier.de/events/pflanzung-baum-des-jahres-2026/
SUMMARY:Pflanzung „Baum des Jahres 2026“
DESCRIPTION:Anlässlich des „Tag des Baumes“\, der jährlich am 25. Apr
 il begangen wird\, erhält die „Allee der Bäume“ eine Zitterpappel.\n
 \nVeranstaltungsort:\nBeethovenstraße (Zugang über Carl-Orff-Straße\, n
 eben Kita „Sonnenblume“)\, 14513 Teltow\n\nVeranstalter:\nInitiativgru
 ppe "Allee der Bäume“
CATEGORIES:Natur
END:VEVENT
BEGIN:VTIMEZONE
TZID:Europe/Berlin
X-LIC-LOCATION:Europe/Berlin
BEGIN:DAYLIGHT
DTSTART:20260329T030000
TZOFFSETFROM:+0100
TZOFFSETTO:+0200
TZNAME:CEST
END:DAYLIGHT
END:VTIMEZONE
END:VCALENDAR