BEGIN:VCALENDAR
VERSION:2.0
PRODID:-//wp-events-plugin.com//7.2.3.1//EN
TZID:Europe/Berlin
X-WR-TIMEZONE:Europe/Berlin
BEGIN:VEVENT
UID:76@baeke-courier.de
DTSTART;TZID=Europe/Berlin;VALUE=DATE:20250322
DTEND;TZID=Europe/Berlin;VALUE=DATE:20250323
DTSTAMP:20250310T094026Z
URL:https://baeke-courier.de/events/pilger-wanderung-entlang-der-ehemalige
 n-friedhofsbahn/
SUMMARY:Pilger-Wanderung entlang der ehemaligen Friedhofsbahn
DESCRIPTION:Die Tourist Information Teltow lädt zu einer Pilgertour auf ei
 nem Teilstück des Brandenburger Jakobsweges\, der von Frankfurt/ Oder bis
  nach Brandenburg an der Havel führt\, ein.\nGeleitet wird die Tour von d
 em erfahrenen Pilgerbegleiter Michael Braun.\n\nDer Weg verläuft vom S-Ba
 hnhof Wannsee durch den Düppeler Forst und die Parforceheide zum Südwest
 kirchhof Stahnsdorf.\n\nTreffpunkt: Bhf. Wannsee\, Ausgang Reichsbahnstra
 ße\, 10 Uhr\n\nINFO &amp\; ANMELDUNG: tourist-info@teltow.de\, Tel. 03328
  /4781 -293\n\nDie Teilnahme ist kostenlos und findet auf eigene Verantwor
 tung statt.\nFestes Schuhwerk\, dem Wetter angepasste Kleidung und eine gu
 te Kondition werden empfohlen.\nBitte denken Sie auch an eigenen Proviant 
 und Getränke.\n\nVeranstalter:\nTourist Information Teltow
CATEGORIES:Wanderung
END:VEVENT
BEGIN:VTIMEZONE
TZID:Europe/Berlin
X-LIC-LOCATION:Europe/Berlin
BEGIN:STANDARD
DTSTART:20241027T020000
TZOFFSETFROM:+0200
TZOFFSETTO:+0100
TZNAME:CET
END:STANDARD
END:VTIMEZONE
END:VCALENDAR