BEGIN:VCALENDAR
VERSION:2.0
PRODID:-//wp-events-plugin.com//7.2.3.1//EN
TZID:Europe/Berlin
X-WR-TIMEZONE:Europe/Berlin
BEGIN:VEVENT
UID:112@baeke-courier.de
DTSTART;TZID=Europe/Berlin:20250508T171500
DTEND;TZID=Europe/Berlin:20250508T190000
DTSTAMP:20250426T115338Z
URL:https://baeke-courier.de/events/repair-cafe-teltow-4/
SUMMARY:Repair-Café Teltow
DESCRIPTION:Wegwerfen? Nein danke!\n\nHerzlich Willkommen in unserem Repair
 -Café Teltow! Hier setzen wir uns nicht nur für Nachhaltigkeit ein\, son
 dern bieten auch wertvolle Reparaturtipps und Unterstützung zur Selbsthil
 fe an. In einer einladenden Atmosphäre habt ihr die Möglichkeit\, defekt
 e Haushaltsgeräte gemeinsam zu reparieren oder Näharbeiten durchführen 
 zu lassen. Es ist auch eine großartige Gelegenheit\, nette Menschen kenne
 nzulernen und Erfahrungen auszutauschen. Um sicherzustellen\, dass wir gen
 ügend Zeit für eure Anliegen haben\, bitten wir euch\, vorher einen Term
 in zu vereinbaren. Darüber hinaus sind wir immer auf der Suche nach ehren
 amtlichen Nachbarn\, die uns unterstützen möchten – sei es beim Repari
 eren oder durch Spenden. Euer Engagement hilft uns\, die Gemeinschaft zu s
 tärken und einen positiven Beitrag zur Umwelt zu leisten. Wir freuen uns 
 auf euch und darauf\, gemeinsam an unseren Projekten zu arbeiten!\n\nTermi
 nvereinbarung: Jeannette Paech 01636923496 oder terminanfragen@repaircafet
 eltow.de\n\n&nbsp\;
CATEGORIES:Sonstiges
LOCATION:Repaircafé Teltow\, Ruhlsdorfer Str. 12\, Teltow\, Deutschland
X-APPLE-STRUCTURED-LOCATION;VALUE=URI;X-ADDRESS=Ruhlsdorfer Str. 12\, Telto
 w\, Deutschland;X-APPLE-RADIUS=100;X-TITLE=Repaircafé Teltow:geo:0,0
END:VEVENT
BEGIN:VTIMEZONE
TZID:Europe/Berlin
X-LIC-LOCATION:Europe/Berlin
BEGIN:DAYLIGHT
DTSTART:20250330T030000
TZOFFSETFROM:+0100
TZOFFSETTO:+0200
TZNAME:CEST
END:DAYLIGHT
END:VTIMEZONE
END:VCALENDAR