BEGIN:VCALENDAR
VERSION:2.0
PRODID:-//wp-events-plugin.com//7.2.3.1//EN
TZID:Europe/Berlin
X-WR-TIMEZONE:Europe/Berlin
BEGIN:VEVENT
UID:55@baeke-courier.de
DTSTART;TZID=Europe/Berlin:20250220T160000
DTEND;TZID=Europe/Berlin:20250220T180000
DTSTAMP:20250201T101603Z
URL:https://baeke-courier.de/events/reparatur-cafe-4/
SUMMARY:Reparatur-Café
DESCRIPTION:Ob Dia-Projektor oder Lichterkette\, Wasserkocher oder Heizlüf
 ter\, Fahrrad oder Rollkoffer\, fast alles\, was im Haushalt mit zwei Hän
 den bewegt werden kann und defekt ist\, kann vorbeigebracht werden.\nJeden
  ersten Donnerstag.
CATEGORIES:TKS
LOCATION:Alte Schule\, Zehlendorfer Damm 212\, Kleinmachnow\, 14532\, Deuts
 chland
X-APPLE-STRUCTURED-LOCATION;VALUE=URI;X-ADDRESS=Zehlendorfer Damm 212\, Kle
 inmachnow\, 14532\, Deutschland;X-APPLE-RADIUS=100;X-TITLE=Alte Schule:geo
 :0,0
END:VEVENT
BEGIN:VTIMEZONE
TZID:Europe/Berlin
X-LIC-LOCATION:Europe/Berlin
BEGIN:STANDARD
DTSTART:20241027T020000
TZOFFSETFROM:+0200
TZOFFSETTO:+0100
TZNAME:CET
END:STANDARD
END:VTIMEZONE
END:VCALENDAR