BEGIN:VCALENDAR
VERSION:2.0
PRODID:-//wp-events-plugin.com//7.2.3.1//EN
TZID:Europe/Berlin
X-WR-TIMEZONE:Europe/Berlin
BEGIN:VEVENT
UID:204@baeke-courier.de
DTSTART;TZID=Europe/Berlin:20260128T200000
DTEND;TZID=Europe/Berlin:20260128T220000
DTSTAMP:20260106T181838Z
URL:https://baeke-courier.de/events/teltow-singt/
SUMMARY:Teltow singt -
DESCRIPTION:Das Mitsingkonzert\n\nEinlass ab 19:30 Uhr\n\nEintritt: AK 10 
 € | Ermäßigt 8 €\nKarten sind nur an der Abendkasse erhältlich.\n\n
 Anmeldung vorab UNBEDINGT erforderlich bei Frau Hasenheyer.\nTel.: 03328 4
 781-249\nE-Mail: k.hasenheyer@teltow.de
CATEGORIES:Liederabend
LOCATION:Neues Rathaus\, Stubenrauchsaal\, Marktplatz 1-3\, Teltow\, 14513\
 , Deutschland
X-APPLE-STRUCTURED-LOCATION;VALUE=URI;X-ADDRESS=Marktplatz 1-3\, Teltow\, 1
 4513\, Deutschland;X-APPLE-RADIUS=100;X-TITLE=Neues Rathaus\, Stubenrauchs
 aal:geo:0,0
END:VEVENT
BEGIN:VTIMEZONE
TZID:Europe/Berlin
X-LIC-LOCATION:Europe/Berlin
BEGIN:STANDARD
DTSTART:20251026T020000
TZOFFSETFROM:+0200
TZOFFSETTO:+0100
TZNAME:CET
END:STANDARD
END:VTIMEZONE
END:VCALENDAR