BEGIN:VCALENDAR
VERSION:2.0
PRODID:-//wp-events-plugin.com//7.2.3.1//EN
TZID:Europe/Berlin
X-WR-TIMEZONE:Europe/Berlin
BEGIN:VEVENT
UID:213@baeke-courier.de
DTSTART;TZID=Europe/Berlin:20260224T190000
DTEND;TZID=Europe/Berlin:20260224T211500
DTSTAMP:20260207T130308Z
URL:https://baeke-courier.de/events/teltower-salon-bauen-in-teltow/
SUMMARY:Teltower Salon: Bauen in Teltow
DESCRIPTION:Die Städtebauliche Rahmenplanung der Stadt und deren hitzegere
 chte Umsetzung bei künftigen Bauvorhaben\nGast: Herr Borg\, Sachgebietsle
 iter Stadtplanung
CATEGORIES:Informations-/Bürgerabend
LOCATION:Philantow\, Mahlower Straße 139\, Teltow\, Deutschland
X-APPLE-STRUCTURED-LOCATION;VALUE=URI;X-ADDRESS=Mahlower Straße 139\, Telt
 ow\, Deutschland;X-APPLE-RADIUS=100;X-TITLE=Philantow:geo:0,0
END:VEVENT
BEGIN:VTIMEZONE
TZID:Europe/Berlin
X-LIC-LOCATION:Europe/Berlin
BEGIN:STANDARD
DTSTART:20251026T020000
TZOFFSETFROM:+0200
TZOFFSETTO:+0100
TZNAME:CET
END:STANDARD
END:VTIMEZONE
END:VCALENDAR