BEGIN:VCALENDAR
VERSION:2.0
PRODID:-//wp-events-plugin.com//7.2.3.1//EN
TZID:Europe/Berlin
X-WR-TIMEZONE:Europe/Berlin
BEGIN:VEVENT
UID:194@baeke-courier.de
DTSTART;TZID=Europe/Berlin:20251028T190000
DTEND;TZID=Europe/Berlin:20251028T211500
DTSTAMP:20251020T102027Z
URL:https://baeke-courier.de/events/teltower-salon/
SUMMARY:Teltower Salon
DESCRIPTION:Bedeutung der Gräben und Pfuhle für Tiere\, Pflanzen und das 
 Klima in unserer Region\n\nFrau Fußwinkel\, Biologin und vielen von uns b
 ekannt durch ihre ehrenamtlich begleitenden Vogelstimmenwanderung und Natu
 rführungen vom Verein zum Erhalt der Buschwiesen (schuetzt-die-buschwiese
 n.de) wird uns mit von ihr in Teltow gemachten Aufnahmen in das Thema einf
 ühren.\n\nAxel Szilleweit\, Bio-Bauer und Stadtverordneter in Teltow wird
  uns von der am 30.9. stattgefundenen öffentlichen Grabenschau des Wasser
 - und Bodenverbandes Nuthe-Nieplitz in Teltow berichten.\n\nDer Teltower S
 alon ist ein Projekt innerhalb der Lokalen Agenda 21 Teltow. Jeden 4. Dien
 stag im Monat wollen wir mit Ihnen zu unterschiedlichen Themen der Nachhal
 tigkeit ins Gespräch kommen. Wir freuen uns auf anregende Abende mit Ihne
 n im Philantow-Café.\n\nDie Teilnahme ist kostenfrei. Anmeldung über Fra
 u Camin.
LOCATION:Philantow\, Mahlower Straße 139\, Teltow\, Deutschland
X-APPLE-STRUCTURED-LOCATION;VALUE=URI;X-ADDRESS=Mahlower Straße 139\, Telt
 ow\, Deutschland;X-APPLE-RADIUS=100;X-TITLE=Philantow:geo:0,0
END:VEVENT
BEGIN:VTIMEZONE
TZID:Europe/Berlin
X-LIC-LOCATION:Europe/Berlin
BEGIN:STANDARD
DTSTART:20251026T020000
TZOFFSETFROM:+0200
TZOFFSETTO:+0100
TZNAME:CET
END:STANDARD
END:VTIMEZONE
END:VCALENDAR