BEGIN:VCALENDAR
VERSION:2.0
PRODID:-//wp-events-plugin.com//7.2.3.1//EN
TZID:Europe/Berlin
X-WR-TIMEZONE:Europe/Berlin
BEGIN:VEVENT
UID:220@baeke-courier.de
DTSTART;TZID=Europe/Berlin:20260310T180000
DTEND;TZID=Europe/Berlin:20260310T193000
DTSTAMP:20260207T132022Z
URL:https://baeke-courier.de/events/verlaengerung-der-s-25/
SUMMARY:Verlängerung der S 25
DESCRIPTION:Informationsveranstaltung zur Verlängerung der S 25 nach Stahn
 sdorf
CATEGORIES:Informations-/Bürgerabend
LOCATION:Gemeindezentrum Stahnsdorf\, Annastraße 3\, Stahnsdorf\, Deutschl
 and
X-APPLE-STRUCTURED-LOCATION;VALUE=URI;X-ADDRESS=Annastraße 3\, Stahnsdorf\
 , Deutschland;X-APPLE-RADIUS=100;X-TITLE=Gemeindezentrum Stahnsdorf:geo:0,
 0
END:VEVENT
BEGIN:VTIMEZONE
TZID:Europe/Berlin
X-LIC-LOCATION:Europe/Berlin
BEGIN:STANDARD
DTSTART:20251026T020000
TZOFFSETFROM:+0200
TZOFFSETTO:+0100
TZNAME:CET
END:STANDARD
END:VTIMEZONE
END:VCALENDAR