BEGIN:VCALENDAR
VERSION:2.0
PRODID:-//wp-events-plugin.com//7.2.3.1//EN
TZID:Europe/Berlin
X-WR-TIMEZONE:Europe/Berlin
BEGIN:VEVENT
UID:205@baeke-courier.de
DTSTART;TZID=Europe/Berlin:20260109T190000
DTEND;TZID=Europe/Berlin:20260109T200000
DTSTAMP:20260106T231119Z
URL:https://baeke-courier.de/events/vernissage-2/
SUMMARY:Vernissage
DESCRIPTION:"Zwischen Fell und Feder" - Tierbilder von Alexandra Czech\n\nD
 auer der Ausstellung: 7. Januar - 1. März 2026\n\nÖffnungszeiten:\nMonta
 g\, Dienstag\, Donnerstag\, Freitag | 9 – 18 Uhr\n1. Sonnabend im Monat 
 | 10 – 13 Uhr\nund während der Veranstaltungen\nDer Eintritt ist frei!
CATEGORIES:Ausstellung/Museum
LOCATION:Rathaus Kleinmachnow\, Adolf-Grimme-Ring 10\, Kleinmachnow\, 14532
 \, Deutschland
X-APPLE-STRUCTURED-LOCATION;VALUE=URI;X-ADDRESS=Adolf-Grimme-Ring 10\, Klei
 nmachnow\, 14532\, Deutschland;X-APPLE-RADIUS=100;X-TITLE=Rathaus Kleinmac
 hnow:geo:0,0
END:VEVENT
BEGIN:VTIMEZONE
TZID:Europe/Berlin
X-LIC-LOCATION:Europe/Berlin
BEGIN:STANDARD
DTSTART:20251026T020000
TZOFFSETFROM:+0200
TZOFFSETTO:+0100
TZNAME:CET
END:STANDARD
END:VTIMEZONE
END:VCALENDAR