BEGIN:VCALENDAR
VERSION:2.0
PRODID:-//wp-events-plugin.com//7.2.3.1//EN
TZID:Europe/Berlin
X-WR-TIMEZONE:Europe/Berlin
BEGIN:VEVENT
UID:58@baeke-courier.de
DTSTART;TZID=Europe/Berlin:20250221T180000
DTEND;TZID=Europe/Berlin:20250221T193000
DTSTAMP:20250201T102713Z
URL:https://baeke-courier.de/events/vernissage-der-ausstellung-farbklaenge
 /
SUMMARY:Vernissage der Ausstellung „Farbklänge"
DESCRIPTION:Ausstellung von Christiane van Beek\n\nDie Ausstellung ist bis 
 zum 6. Juni 2025 während der Öffnungszeiten im Bürgerhaus zu sehen.\n\n
 Bitte melden sie sich für eine Besichtigung vorher an.\n\nDer Eintritt is
 t frei.
CATEGORIES:TKS
LOCATION:Bürgerhaus Teltow\, Ritterstraße 10\, Teltow\, 14513\, Deutschla
 nd
X-APPLE-STRUCTURED-LOCATION;VALUE=URI;X-ADDRESS=Ritterstraße 10\, Teltow\,
  14513\, Deutschland;X-APPLE-RADIUS=100;X-TITLE=Bürgerhaus Teltow:geo:0,0
END:VEVENT
BEGIN:VTIMEZONE
TZID:Europe/Berlin
X-LIC-LOCATION:Europe/Berlin
BEGIN:STANDARD
DTSTART:20241027T020000
TZOFFSETFROM:+0200
TZOFFSETTO:+0100
TZNAME:CET
END:STANDARD
END:VTIMEZONE
END:VCALENDAR