BEGIN:VCALENDAR
VERSION:2.0
PRODID:-//wp-events-plugin.com//7.2.3.1//EN
TZID:Europe/Berlin
X-WR-TIMEZONE:Europe/Berlin
BEGIN:VEVENT
UID:217@baeke-courier.de
DTSTART;TZID=Europe/Berlin:20260307T200000
DTEND;TZID=Europe/Berlin:20260307T235900
DTSTAMP:20260207T131344Z
URL:https://baeke-courier.de/events/videokunstnacht-2026/
SUMMARY:VideoKunstNacht 2026
DESCRIPTION:Die Brücke Kleinmachnow Kunstverein e.V. lädt ein zu Videokun
 st\, Installationen\, Performance und Kurzfilmprogramm
CATEGORIES:Sonstiges
LOCATION:Landarbeiterhaus Z200\, Zehlendorfer Damm 200\, Kleinmachnow\, Deu
 tschland
X-APPLE-STRUCTURED-LOCATION;VALUE=URI;X-ADDRESS=Zehlendorfer Damm 200\, Kle
 inmachnow\, Deutschland;X-APPLE-RADIUS=100;X-TITLE=Landarbeiterhaus Z200:g
 eo:0,0
END:VEVENT
BEGIN:VTIMEZONE
TZID:Europe/Berlin
X-LIC-LOCATION:Europe/Berlin
BEGIN:STANDARD
DTSTART:20251026T020000
TZOFFSETFROM:+0200
TZOFFSETTO:+0100
TZNAME:CET
END:STANDARD
END:VTIMEZONE
END:VCALENDAR