BEGIN:VCALENDAR
VERSION:2.0
PRODID:-//wp-events-plugin.com//7.2.3.1//EN
TZID:Europe/Berlin
X-WR-TIMEZONE:Europe/Berlin
BEGIN:VEVENT
UID:202@baeke-courier.de
DTSTART;TZID=Europe/Berlin:20251122T160000
DTEND;TZID=Europe/Berlin:20251122T183000
DTSTAMP:20251122T121052Z
URL:https://baeke-courier.de/events/vier-choere/
SUMMARY:Vier Chöre ...
DESCRIPTION:... laden zum musikalischen Abenteuer ein.\n\nKLANGFISCHER\, VO
 CALADIES\, SENIORENCHOR KLEINMACHNOW\, SWINGING HEARTS
CATEGORIES:Konzert
LOCATION:Neues Gemeindehaus\, Zehlendorfer Damm 211\, Kleinmachnow\, 14532\
 , Deutschland
X-APPLE-STRUCTURED-LOCATION;VALUE=URI;X-ADDRESS=Zehlendorfer Damm 211\, Kle
 inmachnow\, 14532\, Deutschland;X-APPLE-RADIUS=100;X-TITLE=Neues Gemeindeh
 aus:geo:0,0
END:VEVENT
BEGIN:VTIMEZONE
TZID:Europe/Berlin
X-LIC-LOCATION:Europe/Berlin
BEGIN:STANDARD
DTSTART:20251026T020000
TZOFFSETFROM:+0200
TZOFFSETTO:+0100
TZNAME:CET
END:STANDARD
END:VTIMEZONE
END:VCALENDAR