BEGIN:VCALENDAR
VERSION:2.0
PRODID:-//wp-events-plugin.com//7.2.3.1//EN
TZID:Europe/Berlin
X-WR-TIMEZONE:Europe/Berlin
BEGIN:VEVENT
UID:218@baeke-courier.de
DTSTART;TZID=Europe/Berlin:20260308T200000
DTEND;TZID=Europe/Berlin:20260308T220000
DTSTAMP:20260207T131549Z
URL:https://baeke-courier.de/events/wunschkonzert/
SUMMARY:WUNSCHKONZERT
DESCRIPTION:Das Leben ist kein Wunschkonzert? Doch\, mit Sarah Lesch schon 
 – ein besonderer Liederabend.\nEinlass ab 19 Uhr.\n\nTickets für 22 €
  gibt es ausschließlich unter\nhttps://shop.sarahlesch.de/tickets.\n\nEin
 e Veranstaltung von Martin Emmendörffer in Kooperation mit der Stadt Telt
 ow.
CATEGORIES:Liederabend
LOCATION:Neues Rathaus\, Stubenrauchsaal\, Marktplatz 1-3\, Teltow\, 14513\
 , Deutschland
X-APPLE-STRUCTURED-LOCATION;VALUE=URI;X-ADDRESS=Marktplatz 1-3\, Teltow\, 1
 4513\, Deutschland;X-APPLE-RADIUS=100;X-TITLE=Neues Rathaus\, Stubenrauchs
 aal:geo:0,0
END:VEVENT
BEGIN:VTIMEZONE
TZID:Europe/Berlin
X-LIC-LOCATION:Europe/Berlin
BEGIN:STANDARD
DTSTART:20251026T020000
TZOFFSETFROM:+0200
TZOFFSETTO:+0100
TZNAME:CET
END:STANDARD
END:VTIMEZONE
END:VCALENDAR